BEGIN:VCALENDAR
VERSION:2.0
PRODID:-// - ECPv6.15.11//NONSGML v1.0//EN
CALSCALE:GREGORIAN
METHOD:PUBLISH
X-ORIGINAL-URL:https://clubdecontadores.com
X-WR-CALDESC:Eventos para 
REFRESH-INTERVAL;VALUE=DURATION:PT1H
X-Robots-Tag:noindex
X-PUBLISHED-TTL:PT1H
BEGIN:VTIMEZONE
TZID:America/Lima
BEGIN:STANDARD
TZOFFSETFROM:-0500
TZOFFSETTO:-0500
TZNAME:-05
DTSTART:20230101T000000
END:STANDARD
END:VTIMEZONE
BEGIN:VEVENT
DTSTART;TZID=America/Lima:20240723T190000
DTEND;TZID=America/Lima:20240723T220000
DTSTAMP:20260423T211415
CREATED:20240719T221622Z
LAST-MODIFIED:20240720T175723Z
UID:182-1721761200-1721772000@clubdecontadores.com
SUMMARY:Seminario Virtual: Análisis de las Facultades Discrecionales Vigentes de SUNAT para evitar pago de Multas Tributarias.
DESCRIPTION:Hola como estas? \nPor el presente te escribo para invitarte a participar en el Seminario Virtual: Análisis de las Facultades Discrecionales Vigentes de SUNAT para evitar pago de Multas Tributarias a realizarse este martes 23 de julio de 2024 de 7:00 PM a 10:00 PM con el EXPOSITOR: CPCC FERNANDO EFFIO PEREDA. Ex Director de la Revista Actualidad Empresarial. \n↪️ DESCRIPCIÓN \nAprovechar los beneficios que otorga la legislación tributaria es una opción que tienen los contribuyentes en general. Así\, uno de estos beneficios están consituidos por los regímenes discrecionales que permiten reducir o anular completamente las sanciones a ciertas infracciones tributaria\, los cuales son materia de análisis y aplicación práctica en este seminario taller. \n↪️ OBJETIVOS \n\nAnalizar las diversas facultades discrecionales que ha emitido SUNAT y que permiten el no pago de multas tributarias.\nEvaluar los casos en que se aplica.\n\n↪️ A QUIÉN ESTÁ DIRIGIDO \n\nPersonal del área contable de la empresa\nAdministradores\, gerentes y demás personal vinculado con el quehacer contable y tributario de la empresa.\n\n↪️ TEMARIO: \n1️⃣ FACULTADES DISCRECIONALES – VINCULADAS CON LAS DECLARACIONES JURADAS \n✅ Resolución de Superintendencia N° 203-2006/SUNAT – No obligación de presentar DDJJ mensuales\n✅ RSNATI N° 010-2019/SUNAT aplicable a infracciones relacionadas a la obligación de presentar la Declaración Jurada Anual del Impuesto a la Renta\n✅ RSNAO N° 006-2016-SUNAT/600000 aplicable a la infracción del numeral 1 del artículo 176° del CT por presentar DDJJ fuera de plazo – Ventas y compras que no superen la ½ UIT \n2️⃣ FACULTAD DISCRECIONAL VINCULADAS CON INFRACCIONES POR LLEVAR LIBROS Y REGISTROS VINCULADOS A ASUNTOS TRIBUTARIOS \n✅ Análisis de la RSNATI N° 000016-2020-SUNAT/700000 de fecha 31.08.2020\n✅ ¿Cuál es el beneficio?\n✅ ¿Desde cuándo se aplica?\n✅ ¿A quiénes se aplica?\n✅ ¿Cuáles son las condiciones a cumplir?\n✅ Casos prácticos\n✅ Análisis de la RSNATI N° 039-2023.SUNAT/70000 de fecha 10.11.2023\n✅ ¿Cuál es el beneficio?\n✅ ¿Desde cuándo se aplica?\n✅ ¿A quiénes se aplica?\n✅ ¿Cuáles son las condiciones a cumplir?\n✅ Ampliatorias\n✅ Casos prácticos \n3️⃣ FACULTAD DISCRECIONAL -OTRAS INFRACCIONES \n✅ Análisis de la RSNATI N° 000052-2022-SUNAT/700000 de fecha 31.12.2022 – Emisión de GRE\n✅ RSNAO N° 040-2016-SUNAT/600000 aplicable a infracciones tipificadas en los numerales 1) y 7) del artículo 177° del CT por no exhibir documentos y no comparecer ante SUNAT\n✅ ¿Cuál es el beneficio?\n✅ ¿Desde cuándo se aplica?\n✅ ¿A quiénes se aplica?\n✅ ¿Cuáles son las condiciones a cumplir?\n✅ Ampliaciones\n✅ Casos prácticos \n↪️ EXPOSITOR: CPCC FERNANDO EFFIO PEREDA.\n▶ Master en “Política y Administración Tributaria”\n▶ Contador Público Colegiado\n▶ Ex Director de la revista “ACTUALIDAD EMPRESARIAL”\n▶ Autor de diversos libros en materia tributaria y contable\n▶ Estudios de Post Grado en Tributación (CCPL)\, Comercio Exterior (ADEX) y Finanzas (UNMSM)\n▶ Estudios de Post Grado en Precios de Transferencia en el Centro Interamericano de Administraciones Tributarias (CIAT)\n▶ Estudios de Post Grado en Precios de Transferencia dictado conjuntamente por Baker McKenze\, la Universidad de Anahuac (México) y la Universidad de Cantabria (España)\n▶ Estudios de Post Grado en Instrumentos Financieros en la Pontificia Universidad Católica del Perú\n▶ Estudios de Post Grado en Normas Internacionales de Información Financiera en la Universidad de Lima\n▶ Ex Contador y asesor de importantes empresas \n↪️ INVERSIÓN:\n✅ Público General: S/77.00 Soles\n✅ Suscriptores de la Membresía Tributaria: Ingreso Libre \n📆 FECHA DE TRANSMISIÓN: Martes 23 de julio de 2024 de 7:00 PM a 10:00 PM \n📥 INCLUYE:\n✅ Participación en la Transmisión en VIVO del presente curso.\n✅ Acceso a la Grabación digital por 12 meses (formato video MP4) del presente curso.\n✅ Descargar de los materiales de exposición del presente curso.\n✅ Descarga del Seminario virtual en formato Audio MP3 del presente curso.\n✅ Certificado Digital de Participación por 03 horas académicas del presente curso. \nNOTA: Los videos no son descargables. \n↪️ FORMA DE PAGO:\n✅ BANCO DE CRÉDITO DEL PERÚ: El depósito se debe realizar a nombre de CAPACITACIONES PROFESIONALES SAC – RUC: 20600651464: \n✔️ Cuenta Corriente Soles: 194-2285734-0-20\n✔️ CCI: 00219400228573402096. \nUna vez realizado el depósito y / o transferencia INMEDIATA\, enviar al email: info@clubdecontadores.net y/o al WHATSAPP: 941 521 327\, la copia de la constancia de pago (donde figure el n° operación) para su validación y los datos del participante: nombre y apellidos\, n° DNI\, correo y n° celular.
URL:https://clubdecontadores.com/event/seminario-virtual-analisis-de-las-facultades-discrecionales-vigentes-de-sunat-para-evitar-pago-de-multas-tributarias/
ATTACH;FMTTYPE=image/png:https://clubdecontadores.com/wp-content/uploads/2024/07/fly-anasu02.png
END:VEVENT
BEGIN:VEVENT
DTSTART;TZID=America/Lima:20240718T190000
DTEND;TZID=America/Lima:20240718T220000
DTSTAMP:20260423T211415
CREATED:20240716T165458Z
LAST-MODIFIED:20240716T171354Z
UID:59-1721329200-1721340000@clubdecontadores.com
SUMMARY:Seminario Virtual: Últimas Actualizaciones Tributarias Julio 2024
DESCRIPTION:🚨 Hola como estas?\nToma acción ahora y adquiere tu lugar con un 50% de Descuento para participar en el SEMINARIO VIRTUAL: ÚLTIMAS ACTUALIZACIONES TRIBUTARIAS 2024 a realizarse este Jueves 18 de julio de 2024 de 7:00 PM a 10:00 PM con la EXPOSITORA: DRA MERY BAHAMONDE QUINTEROS.\n👉 La inversión normal es de S/157.00 Soles\, pero ahora puedes adquirir tu lugar por S/77.00 Soles. (Solo tenemos 30 Cupos Disponibles para el público general)\nEn este seminario virtual\, abordamos las principales normas en materia tributaria\, expedidas en las últimas semanas\, que resultan necesarias conocer para el trabajo en el día a día.\n➡️ LO QUE APRENDERÁS:\n✅ Anotación de oficio de operaciones omitidas su registro en el Registro de Ventas. Vigencia del Decreto Legislativo 1540 a partir del 1 de julio de 2024\n✅ Orden de pago para perceptores de rentas de cuarta categoría. Vigencia del Decreto Legislativo 1540 a partir del 1 de julio de 2024.\n✅ ​Nuevos esquemas de riesgo fiscal\n​✅ Sujetos obligados a inscribirse en el RUC\n​✅ Sujetos excluidos de la tasa del 10% del IGV por vinculación.\n​✅ Definición de servicios digitales según informes de la Sunat.\n​✅ Vigencia de la Ley N° 32080\, que elimina el RUC en publicidad en redes sociales\n✅ ​Supuestos de inaplicación de sanciones por guías de remisión electrónicas. RSNATI N° 025-2024-SUNAT.\n​✅ Elección del sistema de compensación de pérdidas del Impuesto a la Renta.\n✅ ​Órdenes de pago de reliquidación por uso indebido de saldo a favor del impuesto a la renta e ITAN.\n​✅ Inafectación del ITAN para entidades educativas.\n​✅ Análisis de principales criterios tributarios en Casaciones publicadas en julio 2024\n👩🏻‍🏫 EXPOSITORA: DRA MERY BAHAMONDE QUINTEROS.\nAbogada por la Pontificia Universidad Católica\, Máster en Derecho Tributario y Política Fiscal en la Universidad de Lima y cursante de estudios en la Maestría de Gestión Empresarial de la Pontificia Universidad Católica del Perú. Gerente de impuestos de B&B Abogados y Contadores. Ex asesora del Tribunal Fiscal y ex asesora de la Gerencia de Servicios al Contribuyente de la SUNAT.\n➡️ INVERSIÓN:\n▶ Público General: S/77.00 Soles\n▶ Asociados de la Membresía Tributaria: Ingreso Libre\n⏳ FECHA DE TRANSMISIÓN:\n▶ Jueves 18 de julio de 2024 de 7:00 PM a 10:00 PM\n♦️ INCLUYE:\n▶ Participación en la Transmisión en VIVO VÍA ZOOM del presente seminario.\n▶ Acceso a la Grabación Digital por 12 meses del presente seminario.\n▶ Certificado Digital de Participación por 03 Horas académicas.\n▶ Descarga de los Materiales de exposición en PDF del presente seminario.\n▶ Descarga del Seminario Virtual en Formato Audio MP3 del presente seminario.\nNOTA: Los videos no son descargables.\n➡️ FORMA DE PAGO:\n✅ BANCO DE CRÉDITO DEL PERÚ: El depósito se debe realizar a nombre de CAPACITACIONES PROFESIONALES SAC – RUC: 20600651464:\n✔️ Cuenta Corriente Soles: 194-2285734-0-20\n✔️ CCI: 00219400228573402096.\n✅ Opcional YAPE: También puedes realizar el pago al Numero del Celular: 51953363955\, mediante el Aplicativo Gratuito Yape del BCP (Banco de Crédito del Perú).\nUna vez realizado el depósito y / o transferencia INMEDIATA\, enviar por este medio o al email: info@clubdecontadores.net\, la copia de la constancia de pago (donde figure el n° operación) para su validación y los datos del participante: nombre y apellidos\, n° DNI\, correo y n° celular.\nSaludos\,\n—\nGaby Narvaez\nÁrea de Atención al Cliente\nClub de Contadores
URL:https://clubdecontadores.com/event/seminario-virtual-ultimas-actualizaciones-tributarias-julio-2024/
END:VEVENT
END:VCALENDAR