BEGIN:VCALENDAR
VERSION:2.0
PRODID:-// - ECPv6.15.11//NONSGML v1.0//EN
CALSCALE:GREGORIAN
METHOD:PUBLISH
X-ORIGINAL-URL:https://clubdecontadores.com
X-WR-CALDESC:Eventos para 
REFRESH-INTERVAL;VALUE=DURATION:PT1H
X-Robots-Tag:noindex
X-PUBLISHED-TTL:PT1H
BEGIN:VTIMEZONE
TZID:America/Lima
BEGIN:STANDARD
TZOFFSETFROM:-0500
TZOFFSETTO:-0500
TZNAME:-05
DTSTART:20250101T000000
END:STANDARD
END:VTIMEZONE
BEGIN:VEVENT
DTSTART;TZID=America/Lima:20260127T190000
DTEND;TZID=America/Lima:20260127T220000
DTSTAMP:20260423T184926
CREATED:20260122T160549Z
LAST-MODIFIED:20260122T162823Z
UID:1788-1769540400-1769551200@clubdecontadores.com
SUMMARY:Taller Virtual: Excel Financiero Aplicado a las NIIF
DESCRIPTION:Hola como estas? 👋 \nToma Acción ahora y adquiere tu lugar con un 50% de DESCUENTO para participar en el TALLER VIRTUAL: EXCEL FINANCIERO APLICADO A LAS NORMAS INTERNACIONALES DE INFORMACIÓN FINANCIERA a realizarse los dias Martes 27 y Jueves 29 de enero de 2026 de 7:00 PM a 10:00 PM (Hora de Perú\, Ecuador y Colombia) con el Expositor: CPC Christian Salcedo. \n➡️ LO QUE APRENDERÁS:\n➡️ Valor Razonable con Excel (NIIF 13\, NIC 41 y NIIF 9)\n✅ Construcción de modelos de valoración paso a paso.\n✅ Uso de flujos descontados (DCF) en Excel.\n✅ Determinación de inputs observables y no observables.\n✅ Casos prácticos: activos financieros\, activos biológicos y mediciones recurrentes.\n✅ Plantilla editable para aplicar en la empresa. \n➡️ Pasivos Contingentes y Provisiones (NIC 37)\n✅ Identificación de obligaciones presentes y probables.\n✅ Cálculo de provisiones mediante escenarios y probabilidades.\n✅ Modelos en Excel para estimar montos esperados.\n✅ Automatización del seguimiento de contingencias legales y laborales. \n➡️ Tasas de Interés y Flujos Financieros (NIIF 16)\n✅ Conversión de tasas nominales a efectivas.\n✅ Construcción de cronogramas de pagos en Excel.\n✅ Cálculo del valor presente de arrendamientos.\n✅ Modelo práctico para medir activos por derecho de uso y pasivos por arrendamiento. \n➡️ Costo Amortizado en la Práctica (NIIF 9)\n✅Desarrollo de cuadros de amortización en Excel.\n✅ Aplicación del método de la tasa de interés efectiva.\n✅ Casos con préstamos\, bonos y cuentas por cobrar.\n✅ Plantillas reutilizables para distintos instrumentos financieros. \n➡️ Pérdida Crediticia Esperada – ECL (NIIF 9)\n✅ Construcción del modelo de pérdida esperada en Excel.\n✅ Segmentación de cartera y análisis de riesgo.\n✅ Cálculo por etapas (Stage 1\, 2 y 3).\n✅ Simulación de escenarios y sensibilidad del deterioro. \n➡️ Pasivos Financieros (NIIF 9)\n✅ Clasificación y medición inicial y posterior.\n✅ Modelos en Excel para seguimiento y control.\n✅ Reexpresión de obligaciones financieras complejas.\n✅Casos reales de financiamientos empresariales. \n➡️ Deterioro de Activos – Impairment Test (NIC 36)\n✅Construcción del test de deterioro en Excel.\n✅ Proyección de flujos de efectivo.\n✅Cálculo del valor en uso y valor razonable menos costos de venta.\n✅ Evaluación de UGE (Unidades Generadoras de Efectivo). \n➡️ Expositor: CPC Christian Salcedo.\nChristian Salcedo es socio de auditoría con más de 15 años de experiencia en auditoría financiera\, gestión de riesgos y mejora de procesos. Es Contador Público por la Universidad Nacional Mayor de San Marcos\, con estudios de maestría en Finanzas Corporativas en la Universidad del Pacífico. Ha desarrollado su carrera profesional en firmas y empresas de primer nivel como Shougang Hierro Perú S.A.A.\, BDO\, PwC y Ernst & Young. Actualmente asesora de manera permanente a empresas en auditoría interna\, NIIF\, gobierno corporativo y gestión de riesgos\, liderando auditorías financieras bajo NIIF\, procesos bajo Sarbanes-Oxley (SOX) y trabajos de due diligence en sectores minero\, pesquero e industrial. \n➡️ INVERSIÓN:\n✔️ Público General: S/85.00 Soles\n✔️ Suscriptores Membresía NIIF: Ingreso Libre \n➡️ Fechas de Transmisión: (06 Horas)\n✅ Martes 27 y Jueves 29 de enero de 2026 de 7:00 PM a 10:00 PM  \n➡️ INCLUYE:\n✔️ Participación en la Transmisión en VIVO\n✔️ Acceso a la Grabación Digital por 12 meses\n✔️ Descarga de los material de exposición \n✔️ Certificado Digital de Participación por 12 horas académicas \n➡️ FORMA DE PAGO:  \nEl depósito se debe realizar a nombre de CAPACITACIONES PROFESIONALES SAC – RUC: 20600651464:\n Cuenta Corriente Soles: 194-2285734-0-20\n CCI: 00219400228573402096. \n Opcional YAPE: Puedes realizar el pago al Numero del Celular: 51953363955\, mediante el Aplicativo Gratuito Yape del BCP (Banco de Crédito del Perú) que te permite enviar y recibir dinero desde tu celular de forma sencilla\, rápida y segura. \nUna vez realizado el depósito pago envíe al email: info@institutodeniif.com y al WhatsApp: +51992776734\, la copia de la constancia de pago para su validación y sus datos: nombre y apellidos\, correo y n° WhatsApp.
URL:https://clubdecontadores.com/event/taller-virtual-excel-financiero-aplicado-a-las-niif/
ATTACH;FMTTYPE=image/png:https://clubdecontadores.com/wp-content/uploads/2026/01/GPT_Image_1_realiza__una_imagen_profesional_de_alto_impacto_qu_0-2026-01-22T110506.949.png
END:VEVENT
BEGIN:VEVENT
DTSTART;TZID=America/Lima:20260129T190000
DTEND;TZID=America/Lima:20260130T220000
DTSTAMP:20260423T184926
CREATED:20260120T224748Z
LAST-MODIFIED:20260120T224754Z
UID:1785-1769713200-1769810400@clubdecontadores.com
SUMMARY:CURSO VIRTUAL: ÚLTIMAS ACTUALIZACIONES NORMATIVAS TRIBUTARIAS
DESCRIPTION:🔥 ¡Hola! ¿Cómo estás? \nToma Acción ahora y adquiere tu lugar para participar en el ✨ CURSO VIRTUAL: ÚLTIMAS ACTUALIZACIONES NORMATIVAS TRIBUTARIAS 2026 a realizarse los días Jueves 29 y Viernes 30 de enero 2026 de 7:00 PM a 10:00 PM con la Expositora: CPC Rosa Ortega Salavarría. \n🏷️ OFERTA EXCLUSIVA: La inversión normal es de S/197.00 Soles\, pero ahora puedes adquirir tu lugar por S/97.00 Soles. ⚠️ (Solo tenemos 30 cupos disponibles para el Público General) \n👀 MIRA EL VIDEO DE INTRODUCCIÓN:\nhttps://capacitaciones.clickfunnels.com/3-actualizaciontributaria1766150309456 \n🧠 LO QUE APRENDERÁS:\n✅ 1.- Síntesis de las principales medidas dictadas al cierre del ejercicio 2025. \n✅ 2.- Beneficios tributarios aplicables en el ejercicio 2026. \n✅ 3.- Declaración Jurada Anual y pago del Impuesto a la Renta 2025.\n3.1. Consideraciones relevantes\, recomendaciones y novedades.\n3.2. Sección informativa: aplicación de las NIIF.\n3.3. Plazo para la presentación en el caso de las personas naturales y de las MYPE (Ley N.º 31940).\n3.4. Cálculo del coeficiente: aspectos relevantes vinculados con su cálculo en la DJ Anual.\n3.5. Modificación del coeficiente o porcentaje para el cálculo de los pagos a cuenta. \n✅ 4.- Sistema Integrado de Registros Electrónicos (SIRE).\n4.1. Prórroga de la obligatoriedad de su uso para determinados contribuyentes.\n4.2. Facultad discrecional de no sancionar. \n✅ 5.- Rentas de Primera Categoría.\n5.1. Criterio de imputación de rentas aplicable a partir del ejercicio 2026.\n5.2. Implicancias para los arrendadores y arrendatarios. \n✅ 6.- Rentas de Cuarta Categoría.\n6.1. Excepción de la obligación de efectuar pagos a cuenta y suspensión de la obligación de efectuar retenciones y pagos a cuenta. \n✅ 7.- Infracción tipificada en el numeral 1 del artículo 176 del Código Tributario – Régimen de gradualidad.\n7.1. Aplicable a contribuyentes generadores de rentas de tercera categoría.\n7.2. Aplicable a contribuyentes generadores de rentas distintas a las de tercera categoría. \n✅ 8.- UIT 2026: principales incidencias. \n✅ 9.- Criterios jurisprudenciales y administrativos recientes: implicancias prácticas frente a la SUNAT. \n👩‍🏫 EXPOSITORA: CPC Rosa Ortega Salavarría. Directora de la Revista Actualidad Empresarial. \n➡️ INVERSIÓN:\n▶ Público General: S/97.00 Soles.\n▶ Suscriptores de la Membresía Tributaria: Ingreso Libre. \n🗓️ FECHAS DE TRANSMISIÓN: \n✔️ Sesión 01: Jueves 29/01/2026.\n✔️ Sesión 02: Viernes 30/01/2026. \n🕛 HORA: De 7:00 PM a 10:00 PM. \n📚 INCLUYE:\n▶ Participación en la Transmisión en VIVO del presente evento.\n▶ Acceso a la Grabación Digital por 12 meses del presente evento.\n▶ Certificado Digital de Participación por 06 Horas académicas.\n▶ Descarga de los Materiales de exposición del presente evento.\n▶ Descarga en su Formato Audio mP3 del presente evento. \n📝 NOTA: Los videos no son descargables. \n🔰 FORMA DE PAGO:\n✅ BANCO DE CRÉDITO DEL PERÚ\nEl depósito se debe realizar a nombre de CAPACITACIONES PROFESIONALES SAC – RUC: 20600651464\n✔️ Cuenta Corriente Soles: 194-2285734-0-20\n✔️ CCI: 00219400228573402096 \n✅ Opcional – YAPE: También puedes realizar el pago al número: +51953363955 Mediante el aplicativo gratuito Yape del BCP \n📌 CONFIRMAR PAGO:\nUna vez realizado el depósito y / o transferencia INMEDIATA\, enviar al WhatsApp: + 51964351698 o al email: info@clubdecontadores.net\, la copia de la constancia de pago (donde figure el n° operación) para su validación y los datos del participante: nombre y apellidos\, n° DNI\, correo y n° celular. \n📩 ¡Esperamos contar con tu participación! \nSaludos\,\n—\nGaby Narvaez\nÁrea de Atención al Cliente\nClub de Contadores
URL:https://clubdecontadores.com/event/curso-virtual-ultimas-actualizaciones-normativas-tributarias/
ATTACH;FMTTYPE=image/png:https://clubdecontadores.com/wp-content/uploads/2026/01/GPT_Image_1_realiza__una_imagen_profesional_de_alto_impacto_qu_0-2026-01-20T174705.952.png
END:VEVENT
BEGIN:VEVENT
DTSTART;TZID=America/Lima:20260408T190000
DTEND;TZID=America/Lima:20260409T220000
DTSTAMP:20260423T184926
CREATED:20260403T180451Z
LAST-MODIFIED:20260403T180643Z
UID:1823-1775674800-1775772000@clubdecontadores.com
SUMMARY:Taller Virtual: Papeles de Trabajo Tributario para la Optimización Fiscal y Prevención de Contingencias​​
DESCRIPTION:✨👋 ¡Hola! ¿Cómo estás? \nToma Acción ahora y adquiere tu lugar para participar en el 🔥 Taller Virtual: Papeles de Trabajo Tributario para la Optimización Fiscal y Prevención de Contingencias​​ a realizarse los días Miércoles 08 y Jueves 09 de abril de 2026 de 7:00 PM a 10:00 PM​ con la Expositora: CPC Esther Ríos Córdova. Ex Funcionario de la SUNAT. \n🎯 OFERTA EXCLUSIVA: La inversión normal es de S/197.00 Soles\, pero ahora puedes adquirir tu lugar por S/97.00 Soles. ⚠️ (Solo Tenemos 30 cupos disponibles para el Público General) \n👀 MIRA EL VIDEO DE INTRODUCCIÓN: \nhttps://capacitaciones.clickfunnels.com/2-papelesdetrabajotributarioijt5oyf4 \n✍️ LO QUE APRENDERÁS: \n➡️ SESIÓN 1: PAPELES DE TRABAJO PARA EL IMPUESTO A LA RENTA\n✅ 1.1 Papeles de trabajo para control de gastos y sustento documentario\n✅ 1.2 Papel de trabajo para proyección del Impuesto a la Renta\n✅ 1.3 Papel de trabajo para utilización del saldo a favor del IR\n✅ 1.4 Papel de trabajo para modificación del coeficiente\n✅ 1.5 Papel de trabajo para compensación del saldo a favor (IGV\, ITAN)\n✅ 1.6 Papeles de trabajo para auditoría tributaria preventiva del IR\n✅ 1.7 Papel de trabajo para control de fehaciencia y capacidad operativa\n✅ 1.8 Modelo de informe de planeamiento tributario del IR \n➡️ SESIÓN 2: PAPELES DE TRABAJO PARA EL IGV\n✅ 2.1 Papel de trabajo para control del crédito fiscal\n✅ 2.2 Papel de trabajo para sustento de fehaciencia\n✅ 2.3 Papel de trabajo para control de detracciones\n✅ 2.4 Papel de trabajo para operaciones no gravadas\n✅ 2.5 Papel de trabajo para escudos fiscales en el IGV\n✅ 2.6 Papel de trabajo para saldo a favor del exportador\n✅ 2.7 Papel de trabajo para regularización de infracciones\n✅ 2.8 Papeles de trabajo para auditoría preventiva del IGV\n✅ 2.9 Papel de trabajo para control de operaciones no reales\n✅ 2.10 Modelo de informe de planeamiento tributario del IGV \n🎓 EXPOSITORA: CPC Esther Ríos Córdova. – Ex Funcionario de SUNAT. \n➡️ INVERSIÓN:\n▶ Público General: S/97.00 Soles.\n▶ Suscriptores de la Membresía Tributaria: Ingreso Libre. \n🗓️ FECHAS DE TRANSMISIÓN:\n✅ Primera Sesión: ​Miércoles 08 de abril de 2026\n✅ Segunda Sesión: Jueves 09 de abril de 2026 \n🕛 HORA: De 7:00 PM a 10:00 PM. \n📚 INCLUYE:\n▶ Participación en la Transmisión en VIVO del presente evento.\n▶ Acceso a la Grabación Digital por 12 meses del presente evento.\n▶ Certificado Digital de Participación por 06 Horas académicas.\n▶ Descarga de los Materiales de exposición del presente evento.\n▶ Descarga en su Formato Audio mP3 del presente evento. \n📝 NOTA: Los videos no son descargables. \n🔰 FORMA DE PAGO:\n✅ BANCO DE CRÉDITO DEL PERÚ\nEl depósito se debe realizar a nombre de CAPACITACIONES PROFESIONALES SAC – RUC: 20600651464\n✔️ Cuenta Corriente Soles: 194-2285734-0-20\n✔️ CCI: 00219400228573402096 \n✅ Opcional – YAPE: También puedes realizar el pago al número: +51953363955 Mediante el aplicativo gratuito Yape del BCP \n📌 CONFIRMAR PAGO:\nUna vez realizado el depósito y / o transferencia INMEDIATA\, enviar al WhatsApp: + 51964351698 o al email: info@clubdecontadores.net\, la copia de la constancia de pago (donde figure el n° operación) para su validación y los datos del participante: nombre y apellidos\, n° DNI\, correo y n° celular. \n📩 ¡Esperamos contar con tu participación! \nSaludos\,\n—\nGaby Narvaez\nÁrea de Atención al Cliente\nClub de Contadores
URL:https://clubdecontadores.com/event/taller-virtual-papeles-de-trabajo-tributario-para-la-optimizacion-fiscal-y-prevencion-de-contingencias/
ATTACH;FMTTYPE=image/jpeg:https://clubdecontadores.com/wp-content/uploads/2026/04/WhatsApp-Image-2026-03-30-at-12.58.20-PM.jpeg
END:VEVENT
END:VCALENDAR